BEGIN:VCALENDAR
VERSION:2.0
PRODID:-//Navarre Beach - ECPv6.15.20//NONSGML v1.0//EN
CALSCALE:GREGORIAN
METHOD:PUBLISH
X-WR-CALNAME:Navarre Beach
X-ORIGINAL-URL:https://www.getrelaxing.com
X-WR-CALDESC:Events for Navarre Beach
REFRESH-INTERVAL;VALUE=DURATION:PT1H
X-Robots-Tag:noindex
X-PUBLISHED-TTL:PT1H
BEGIN:VTIMEZONE
TZID:America/New_York
BEGIN:DAYLIGHT
TZOFFSETFROM:-0500
TZOFFSETTO:-0400
TZNAME:EDT
DTSTART:20250309T070000
END:DAYLIGHT
BEGIN:STANDARD
TZOFFSETFROM:-0400
TZOFFSETTO:-0500
TZNAME:EST
DTSTART:20251102T060000
END:STANDARD
BEGIN:DAYLIGHT
TZOFFSETFROM:-0500
TZOFFSETTO:-0400
TZNAME:EDT
DTSTART:20260308T070000
END:DAYLIGHT
BEGIN:STANDARD
TZOFFSETFROM:-0400
TZOFFSETTO:-0500
TZNAME:EST
DTSTART:20261101T060000
END:STANDARD
BEGIN:DAYLIGHT
TZOFFSETFROM:-0500
TZOFFSETTO:-0400
TZNAME:EDT
DTSTART:20270314T070000
END:DAYLIGHT
BEGIN:STANDARD
TZOFFSETFROM:-0400
TZOFFSETTO:-0500
TZNAME:EST
DTSTART:20271107T060000
END:STANDARD
END:VTIMEZONE
BEGIN:VEVENT
DTSTART;TZID=America/New_York:20260204T180000
DTEND;TZID=America/New_York:20260204T200000
DTSTAMP:20260423T101746
CREATED:20250709T170033Z
LAST-MODIFIED:20250709T170033Z
UID:10007520-1770228000-1770235200@www.getrelaxing.com
SUMMARY:NWF Pirates Summer Conditioning Day
DESCRIPTION:NWF Pirates Summer Conditioning Reminder \nConditioning Wednesday\, July 9th at 6:00 PM and will continue every Wednesday until further notice… bring a friend Pirates Family Everyone welcomed! \nIf you need help finding us\, call 850-619-5035
URL:https://www.getrelaxing.com/event/nwf-pirates-summer-conditioning-day/2026-02-04/
LOCATION:Sea Oats Pavillion\, 8755 Gulf Blvd\, Navarre\, FL\, 32566\, United States
CATEGORIES:Kids,Sports
END:VEVENT
BEGIN:VEVENT
DTSTART;TZID=America/New_York:20260211T180000
DTEND;TZID=America/New_York:20260211T200000
DTSTAMP:20260423T101746
CREATED:20250709T170033Z
LAST-MODIFIED:20250709T170033Z
UID:10007521-1770832800-1770840000@www.getrelaxing.com
SUMMARY:NWF Pirates Summer Conditioning Day
DESCRIPTION:NWF Pirates Summer Conditioning Reminder \nConditioning Wednesday\, July 9th at 6:00 PM and will continue every Wednesday until further notice… bring a friend Pirates Family Everyone welcomed! \nIf you need help finding us\, call 850-619-5035
URL:https://www.getrelaxing.com/event/nwf-pirates-summer-conditioning-day/2026-02-11/
LOCATION:Sea Oats Pavillion\, 8755 Gulf Blvd\, Navarre\, FL\, 32566\, United States
CATEGORIES:Kids,Sports
END:VEVENT
BEGIN:VEVENT
DTSTART;TZID=America/New_York:20260218T180000
DTEND;TZID=America/New_York:20260218T200000
DTSTAMP:20260423T101746
CREATED:20250709T170033Z
LAST-MODIFIED:20250709T170033Z
UID:10007522-1771437600-1771444800@www.getrelaxing.com
SUMMARY:NWF Pirates Summer Conditioning Day
DESCRIPTION:NWF Pirates Summer Conditioning Reminder \nConditioning Wednesday\, July 9th at 6:00 PM and will continue every Wednesday until further notice… bring a friend Pirates Family Everyone welcomed! \nIf you need help finding us\, call 850-619-5035
URL:https://www.getrelaxing.com/event/nwf-pirates-summer-conditioning-day/2026-02-18/
LOCATION:Sea Oats Pavillion\, 8755 Gulf Blvd\, Navarre\, FL\, 32566\, United States
CATEGORIES:Kids,Sports
END:VEVENT
BEGIN:VEVENT
DTSTART;TZID=America/New_York:20260225T180000
DTEND;TZID=America/New_York:20260225T200000
DTSTAMP:20260423T101746
CREATED:20250709T170033Z
LAST-MODIFIED:20250709T170033Z
UID:10007523-1772042400-1772049600@www.getrelaxing.com
SUMMARY:NWF Pirates Summer Conditioning Day
DESCRIPTION:NWF Pirates Summer Conditioning Reminder \nConditioning Wednesday\, July 9th at 6:00 PM and will continue every Wednesday until further notice… bring a friend Pirates Family Everyone welcomed! \nIf you need help finding us\, call 850-619-5035
URL:https://www.getrelaxing.com/event/nwf-pirates-summer-conditioning-day/2026-02-25/
LOCATION:Sea Oats Pavillion\, 8755 Gulf Blvd\, Navarre\, FL\, 32566\, United States
CATEGORIES:Kids,Sports
END:VEVENT
END:VCALENDAR